BEGIN:VCALENDAR
VERSION:2.0
PRODID:-//wp-events-plugin.com//7.2.3.1//EN
TZID:Europe/Brussels
X-WR-TIMEZONE:Europe/Brussels
BEGIN:VEVENT
UID:37@sbsr.be
DTSTART;TZID=Europe/Brussels:20260419T091500
DTEND;TZID=Europe/Brussels:20260419T163000
DTSTAMP:20260416T073831Z
URL:https://www.sbsr.be/evenements/traverser-le-deuil-sophrologie-et-thana
 tologie-au-service-de-lapaisement-avec-anne-meesters/
SUMMARY:Traverser le deuil : sophrologie et thanatologie au service de l’
 apaisement avec Anne Meesters
DESCRIPTION:Cheminer ensemble\, entre parole et conscience\, pour accueilli
 r la vie au cœur du deuil\nCet atelier est avant tout un temps d’échan
 ge et un espace chaleureux et bienveillant. Un moment pour accueillir ce q
 ui\, parfois\, se replie en nous lorsque l’on parle de fin de vie\, de m
 ort ou de deuil. Ici\, il ne s’agit pas de théoriser\, mais d’ouvrir 
 doucement la parole et de découvrir comment la sophrologie peut nous sout
 enir dans ces traversées.\n\nLa sophrologie nous invite à prendre consci
 ence que nous sommes faits d’une matière vivante\, appelée à s’harm
 oniser dans l’unité cœur‑corps‑esprit. Elle nous apprend à prendr
 e soin de la vie qui circule en nous\, à cultiver notre état d’être\,
  et à renforcer ainsi notre capacité à accompagner les personnes en deu
 il ou en fin de vie.\n\nDans ce cadre\, nous explorerons comment la sophro
 logie peut devenir un appui essentiel dans notre posture d’accompagnant.
  En tant que sophrologues\, nous sommes\, ou serons\, à titre personnel\,
  touchés par le deuil : un point commun qui relie le sophrologue et le so
 phronisant.\n\nRejoignez cet atelier pour découvrir des outils concrets e
 t apaisants\, et cheminer ensemble vers une posture plus sereine face au d
 euil\n\n 	🗓️ Quand : Dimanche 19 avril 2026 de 9h30 précises à 16h3
 0 (accueil à 9h15)\n 	📍 Où : Salle Olivier\, Rue des Buissons 1 à Lo
 uvain-la-Neuve\n 	🕘 Durée : 7 heures\n 	👥 Pour qui : sophrologues e
 n exercice ou en fin de formation. Il est demandé aux participant.e.s de 
 visionner au préalable une conférence de Christophe Fauré sur le proce
 ssus de deuil\, afin que nous partagions une base commune de compréhensio
 n et de sensibilité\,\n 	💰 Prix :\n\n 	Membres adhérents et effectifs
  en ordre de cotisation 2026* : 80€\n 	Tout public : 100€\n\n\n 	📝 
 Comment s'inscrire : Via le formulaire ci-dessous\, jusqu'au 15 avril 2026
  à 23h30\n\n&nbsp\;\n\nAdhésion à la SBSR : Passionnés par la sophrolo
 gie\, la relaxation\, et les états modifiés de conscience ? Devenez Memb
 re SBSR et profitez du tarif préférentiel pour cet évènement ! Découv
 rez comment devenir membre avant l’évènement.\n\n*Cher membre\, en ord
 re de cotisation 2026\, pour profiter de votre tarif préférentiel\, merc
 i de vous connecter à votre espace membre avant de faire votre réservati
 on. Vous n’êtes pas en ordre de cotisation 2026 ? Vous pouvez le faire 
 via votre espace membre également.\n\n\n\nProgramme :\nLors de cette jour
 née\, seront abordées les thématiques suivantes :\n\n 	La justesse de l
 a posture d’accompagnant·e face à la souffrance du deuil\;\n 	L'aptitu
 de à identifier et à accueillir les processus expérientiels (affects\, 
 pensées\, mouvements internes) de la personne accompagnée\;\n 	La maîtr
 ise d’outils de médiation symbolique pour fluidifier la parole et libé
 rer le récit\;\n 	Les concepts clés de l'accompagnement du deuil\;\n 	Le
 s techniques de sophrologie spécifiques en lien avec la mémoire positive
  et la continuité du lien.\n\n\n\n\nPrésentation de Anne Meesters\nAnne 
 Meesters est sophrologue et thanadoula. Dans son quotidien\, elle accompag
 ne les personnes en fin de vie\, leurs proches\, ainsi que celles et ceux 
 qui traversent un deuil. Co-fondatrice de l’ASBL Doulas de fin de vie\, 
 elle anime régulièrement des cafés-deuils\, aussi  appelés cafés mor
 tels : des espaces de parole bienveillants où les personnes endeuillées 
 trouvent écoute et résonance. Ces rencontres offrent la possibilité de 
 se retrouver\, de partager leurs traversées\, d’exprimer leurs émotion
 s et\, parfois\, de tisser de nouveaux liens.\n\nElle propose également d
 es ateliers de parole destinés à l’ensemble du personnel des maisons d
 e repos et des institutions. Un temps de rencontre pour mettre en lumière
  ce qui demeure très souvent dans l’ombre. Dans les maisons de repos\, 
 la mort est une présence discrète mais constante. Pourtant\, elle reste 
 fréquemment invisibilisée\, car l’accompagner continue de susciter de 
 l’inconfort.\n\nwww.doulasdefindevie.be\n\n\n\n
ATTACH;FMTTYPE=image/jpeg:https://www.sbsr.be/wp-content/uploads/2025/11/s
 bsr-event-cover-event-intervision-AnneMeesters-COMPLET.jpg
LOCATION:Salle Olivier\, Rue des Buissons 1\, Louvain-la-Neuve\, Belgique
X-APPLE-STRUCTURED-LOCATION;VALUE=URI;X-ADDRESS=Rue des Buissons 1\, Louvai
 n-la-Neuve\, Belgique;X-APPLE-RADIUS=100;X-TITLE=Salle Olivier:geo:0,0
END:VEVENT
BEGIN:VTIMEZONE
TZID:Europe/Brussels
X-LIC-LOCATION:Europe/Brussels
BEGIN:DAYLIGHT
DTSTART:20260329T030000
TZOFFSETFROM:+0100
TZOFFSETTO:+0200
TZNAME:CEST
END:DAYLIGHT
END:VTIMEZONE
END:VCALENDAR