BEGIN:VCALENDAR
VERSION:2.0
PRODID:-//wp-events-plugin.com//7.2.3.1//EN
TZID:Europe/Brussels
X-WR-TIMEZONE:Europe/Brussels
BEGIN:VEVENT
UID:46@sbsr.be
DTSTART;TZID=Europe/Brussels:20260525T140000
DTEND;TZID=Europe/Brussels:20260525T153000
DTSTAMP:20260407T211030Z
URL:https://www.sbsr.be/evenements/sophrologie-dans-les-espaces-verts-a-lo
 uvain-la-neuve-lundi-25-mai-2026/
SUMMARY:Sophrologie dans les espaces verts à Louvain-la-Neuve
DESCRIPTION:Sophrologie dans les parcs et espaces verts - Séance gratuite 
 en plein air\nEt si vous profitiez des beaux jours pour vous offrir une pa
 use bien-être… en pleine nature ?\n\nDans le cadre de l’initiative 
 “Sophrologie dans les parcs et espaces verts”\, la SBSR vous invite à
  vivre une séance gratuite de sophrologie\, accessible à toutes et tous\
 , dans un cadre naturel apaisant près de chez vous.\n\nRespirer\, relâch
 er les tensions\, ralentir… Cette expérience douce vous permet de vous 
 reconnecter à vous-même\, tout en vous laissant porter par l’énergie 
 du lieu.\n\nQue vous découvriez la sophrologie ou que vous soyez déjà p
 ratiquant(e)\, cette séance est une invitation simple à prendre soin de 
 vous.\n\n\n\nÉvasion douce au bois de Lauzelle : respirez\, relâchez\, r
 ecentrez-vous\nJe vous propose une sophro-balade d'environ 3 km au cœur d
 u bois de Lauzelle à Louvain-la-Neuve\, un écrin de nature paisible\, cl
 assé site Natura 2000 et reconnu pour sa richesse en biodiversité.\n\nAu
  fil de la marche\, je vous guiderai à travers des exercices simples de r
 espiration\, de relaxation et de visualisation pour relâcher les tensions
 \, apaiser le mental et retrouver un état de calme intérieur.\n\nPrenez 
 un moment pour ralentir\, vous reconnecter à vos sensations et vous recen
 trer en douceur. Accessible sans prérequis\, cette balade est une invitat
 ion à prendre du temps pour vous\, à respirer pleinement et à vous ancr
 er dans l’instant présent.\n\nNon accessible aux PMR.\nPour plus de con
 fort\, n'oubliez pas vos chaussures de marche.\n\nStéphanie Misson\nwww.r
 espire-en-corps.be\n\n\n\n\nInformations pratiques\n\n 	🗓️ Quand : Lu
 ndi 25 mai 2026 à 14h\n 	📍 Où : Bois de Lauzelle (Parking de Lauzelle
 ) - Boulevard de Lauzelle - 1348 Louvain-la-Neuve - Brabant Wallon\nAu par
 king de Lauzelle \, à l'entrée du bois. Coordonnées GPS: 50.672850\, 4.
 605286\n 	👥 Pour qui : Ouvert à toutes et tous - Maximum 15 personnes\
 n 	👤 Animé par : Stéphanie Misson\, sophrologue\n 	💰 Prix : Gratui
 t (inscription obligatoire)\n 	📝 Comment s'inscrire : Via le formulaire
  ci-dessous\, jusqu'au 20 mai à 23h30\n\n\n\n\n
ATTACH;FMTTYPE=image/jpeg:https://www.sbsr.be/wp-content/uploads/2026/04/s
 bsr-event-cover-event-parcs-LouvainLaNeuve-25mai-StephanieMisson.jpg
LOCATION:Bois de Lauzelle\, Boulevard de Lauzelle\, Louvain-la-Neuve\, 1348
 \, Brabant Wallon\, Belgique
X-APPLE-STRUCTURED-LOCATION;VALUE=URI;X-ADDRESS=Boulevard de Lauzelle\, Lou
 vain-la-Neuve\, 1348\, Brabant Wallon\, Belgique;X-APPLE-RADIUS=100;X-TITL
 E=Bois de Lauzelle:geo:0,0
END:VEVENT
BEGIN:VTIMEZONE
TZID:Europe/Brussels
X-LIC-LOCATION:Europe/Brussels
BEGIN:DAYLIGHT
DTSTART:20260329T030000
TZOFFSETFROM:+0100
TZOFFSETTO:+0200
TZNAME:CEST
END:DAYLIGHT
END:VTIMEZONE
END:VCALENDAR