BEGIN:VCALENDAR
VERSION:2.0
PRODID:-//wp-events-plugin.com//7.2.3.1//EN
TZID:Europe/Brussels
X-WR-TIMEZONE:Europe/Brussels
BEGIN:VEVENT
UID:50@sbsr.be
DTSTART;TZID=Europe/Brussels:20260523T100000
DTEND;TZID=Europe/Brussels:20260523T123000
DTSTAMP:20260413T080100Z
URL:https://www.sbsr.be/evenements/sophrologie-dans-les-espaces-verts-a-la
 sne-23mai2026/
SUMMARY:Sophrologie dans les espaces verts à Lasne
DESCRIPTION:Sophrologie dans les parcs et espaces verts - Séance gratuite 
 en plein air\nEt si vous profitiez des beaux jours pour vous offrir une pa
 use bien-être… en pleine nature ?\n\nDans le cadre de l’initiative 
 “Sophrologie dans les parcs et espaces verts”\, la SBSR vous invite à
  vivre une séance gratuite de sophrologie\, accessible à toutes et tous\
 , dans un cadre naturel apaisant près de chez vous.\n\nRespirer\, relâch
 er les tensions\, ralentir… Cette expérience douce vous permet de vous 
 reconnecter à vous-même\, tout en vous laissant porter par l’énergie 
 du lieu.\n\nQue vous découvriez la sophrologie ou que vous soyez déjà p
 ratiquant(e)\, cette séance est une invitation simple à prendre soin de 
 vous.\n\n\n\nSophrobalade à Lasne - De la marche au retour à soi\nRalent
 ir\, respirer\, marcher en conscience et vous reconnecter à votre corps\,
  à vos sensations et à la nature environnante lors d’une "sophrobalade
 " de 4 km\, suivie d’une séance dans mon jardin.\n\nAu fil de l’expé
 rience\, vous serez guidé·e vers plus de présence\, de détente et d’
 écoute intérieure\, pour relâcher les tensions et retrouver un état de
  calme\, à travers de simples exercices de respiration et de conscience d
 e soi. Accessible à tous\, sans prérequis\, ce moment de partage est un
 e invitation à faire une pause\, à revenir à l’essentiel\, en nature 
 et en toute simplicité.\nPrévoyez une tenue confortable et adaptée à l
 a marche\, de quoi vous installer au sol et de quoi vous hydrater.\n\nCoac
 h\, apnéiste et future sophrologue\, passionnée par le bien-être holist
 ique\, je suis heureuse de participer à ces journées de découverte de l
 a sophrologie dans les espaces verts\, proposées par la Société Belge d
 e Sophrologie et Relaxation.\nAu plaisir de partager ce moment avec vous\,
 \nJana Gazibara\nwww.spheredejana.com\n\n\n\n\nInformations pratiques\n\n 
 	🗓️ Quand : Samedi 23 mai 2026 à 10h\n 	📍 Où : Chemin de randonn
 ée du Gros Tienne. A l'angle de l'Avenue du Vallon et du Chemin du Gros T
 ienne 86 à Lasne - Brabant wallon\n 	👥 Pour qui : Ouvert à toutes et 
 tous - Maximum 12 personnes\n 	👤 Animé par : Jana Gazibara\, sophrolog
 ue\n 	💰 Prix : Gratuit (inscription obligatoire)\n 	📝 Comment s'insc
 rire : Via le formulaire ci-dessous\, jusqu'au 20 mai à 23h30\n\n\n\n\n
ATTACH;FMTTYPE=image/jpeg:https://www.sbsr.be/wp-content/uploads/2026/04/s
 bsr-event-cover-event-parcs-Lasne-23mai-Jana.jpg
LOCATION:Chemin de randonnée du Gros Tienne\, Chemin du Gros Tienne 86\, L
 asne\, 1380\, Belgique
X-APPLE-STRUCTURED-LOCATION;VALUE=URI;X-ADDRESS=Chemin du Gros Tienne 86\, 
 Lasne\, 1380\, Belgique;X-APPLE-RADIUS=100;X-TITLE=Chemin de randonnée du
  Gros Tienne:geo:0,0
END:VEVENT
BEGIN:VTIMEZONE
TZID:Europe/Brussels
X-LIC-LOCATION:Europe/Brussels
BEGIN:DAYLIGHT
DTSTART:20260329T030000
TZOFFSETFROM:+0100
TZOFFSETTO:+0200
TZNAME:CEST
END:DAYLIGHT
END:VTIMEZONE
END:VCALENDAR