BEGIN:VCALENDAR
VERSION:2.0
PRODID:-//wp-events-plugin.com//7.2.3.1//EN
TZID:Europe/Brussels
X-WR-TIMEZONE:Europe/Brussels
BEGIN:VEVENT
UID:45@sbsr.be
DTSTART;TZID=Europe/Brussels:20260523T120000
DTEND;TZID=Europe/Brussels:20260523T130000
DTSTAMP:20260407T210533Z
URL:https://www.sbsr.be/evenements/sophrologie-dans-les-espaces-verts-a-la
 -hulpe-samedi-23-mai-2026/
SUMMARY:Sophrologie dans les espaces verts à La Hulpe
DESCRIPTION:Sophrologie dans les parcs et espaces verts - Séance gratuite 
 en plein air\nEt si vous profitiez des beaux jours pour vous offrir une pa
 use bien-être… en pleine nature ?\n\nDans le cadre de l’initiative 
 “Sophrologie dans les parcs et espaces verts”\, la SBSR vous invite à
  vivre une séance gratuite de sophrologie\, accessible à toutes et tous\
 , dans un cadre naturel apaisant près de chez vous.\n\nRespirer\, relâch
 er les tensions\, ralentir… Cette expérience douce vous permet de vous 
 reconnecter à vous-même\, tout en vous laissant porter par l’énergie 
 du lieu.\n\nQue vous découvriez la sophrologie ou que vous soyez déjà p
 ratiquant(e)\, cette séance est une invitation simple à prendre soin de 
 vous.\n\n\n\nUn temps pour ralentir\, respirer\, ressentir et retrouver un
 e harmonie intérieure en lien avec le vivant\nSophrologue\, coach et prof
 esseure de yoga\, je suis très heureuse de participer au week-end de déc
 ouverte de la sophrologie dans les parcs et espaces verts de Belgique\, or
 ganisé par la Société Belge de Sophrologie et Relaxation.\n\nJe vous in
 vite à nous rejoindre pour une séance découverte gratuite de sophrologi
 e en plein air\, dans un cadre naturel ressourçant et apaisant.\nCe sera 
 une belle occasion de ralentir\, de respirer profondément et de vous reco
 nnecter à votre nature profonde\, en harmonie avec la nature qui vous ent
 oure.\n\nUn moment simple et précieux pour relâcher les tensions\, retro
 uver de l’espace en soi et se laisser porter par la douceur de l’insta
 nt présent.\n\nPrévoyez une tenue confortable\, de quoi vous installer a
 u sol et de quoi vous hydrater.\n\nAu plaisir de vivre ce beau moment avec
  vous\,\n\nCaroline Delooz\ncarolinedelooz.com\n\n\n\n\nInformations prati
 ques\n\n 	🗓️ Quand : Samedi 23 mai 2026 à 12h\n 	📍 Où : Parc du 
 Chateau de la Hulpe - Chaussée de Bruxelles 111\nEn entrant dans le parc\
 , marcher une cinquantaine de mètres puis remonter à droite près des ar
 bres au milieu de la pelouse.\n 	👥 Pour qui : Ouvert à toutes et tous 
 - Maximum 20 personnes\n 	👤 Animé par : Caroline Delooz\, sophrologue\
 n 	💰 Prix : Gratuit (inscription obligatoire)\n 	📝 Comment s'inscrir
 e : Via le formulaire ci-dessous\, jusqu'au 20 mai à 23h30\n\n\n\n\n
ATTACH;FMTTYPE=image/jpeg:https://www.sbsr.be/wp-content/uploads/2026/04/s
 bsr-event-cover-event-parcs-LaHulpe-23mai-CarolineDelooz.jpg
LOCATION:Parc du Château de la Hulpe\, Chaussée de Bruxelles\, 111\, La H
 ulpe\, 1310\, Belgique
X-APPLE-STRUCTURED-LOCATION;VALUE=URI;X-ADDRESS=Chaussée de Bruxelles\, 11
 1\, La Hulpe\, 1310\, Belgique;X-APPLE-RADIUS=100;X-TITLE=Parc du Château
  de la Hulpe:geo:0,0
END:VEVENT
BEGIN:VTIMEZONE
TZID:Europe/Brussels
X-LIC-LOCATION:Europe/Brussels
BEGIN:DAYLIGHT
DTSTART:20260329T030000
TZOFFSETFROM:+0100
TZOFFSETTO:+0200
TZNAME:CEST
END:DAYLIGHT
END:VTIMEZONE
END:VCALENDAR