BEGIN:VCALENDAR
VERSION:2.0
PRODID:-//wp-events-plugin.com//7.2.3.1//EN
TZID:Europe/Brussels
X-WR-TIMEZONE:Europe/Brussels
BEGIN:VEVENT
UID:47@sbsr.be
DTSTART;TZID=Europe/Brussels:20260523T143000
DTEND;TZID=Europe/Brussels:20260523T154500
DTSTAMP:20260407T211643Z
URL:https://www.sbsr.be/evenements/sophrologie-dans-les-espaces-verts-a-la
 -hulpe-boisdesdames-samedi-23-mai-2026/
SUMMARY:Sophrologie dans les espaces verts à La Hulpe
DESCRIPTION:Sophrologie dans les parcs et espaces verts - Séance gratuite 
 en plein air\nEt si vous profitiez des beaux jours pour vous offrir une pa
 use bien-être… en pleine nature ?\n\nDans le cadre de l’initiative 
 “Sophrologie dans les parcs et espaces verts”\, la SBSR vous invite à
  vivre une séance gratuite de sophrologie\, accessible à toutes et tous\
 , dans un cadre naturel apaisant près de chez vous.\n\nRespirer\, relâch
 er les tensions\, ralentir… Cette expérience douce vous permet de vous 
 reconnecter à vous-même\, tout en vous laissant porter par l’énergie 
 du lieu.\n\nQue vous découvriez la sophrologie ou que vous soyez déjà p
 ratiquant(e)\, cette séance est une invitation simple à prendre soin de 
 vous.\n\n\n\nL’Art de respirer avec la nature – Séance de sophrologie
  en plein air\nReconnectez-vous à l’essentiel en laissant le rythme apa
 isant de la nature guider votre souffle. Lors de cette séance gratuite de
  sophrologie en plein air\, nous explorerons ensemble l’art de respirer 
 en conscience\, en synchronisation avec les éléments qui nous entourent 
 . La nature est notre première alliée pour apaiser le mental\, oxygéner
  le corps et retrouver un équilibre intérieur. Une pause bienveillante p
 our diminuer le stress et les tensions accumulées.\n\nValérie Grauwels\n
 \n\n\nInformations pratiques\n\n 	🗓️ Quand : Samedi 23 mai 2026 à 14
 h30\n 	📍 Où : Bois des Dames à La Hulpe -  Entrée entre le 27 et le
  29 avenue du Roi Baudoin à La Hulpe\n 	👥 Pour qui : Ouvert à toutes 
 et tous - Maximum 20 personnes\n 	👤 Animé par : Valérie Grauwels\, so
 phrologue\n 	💰 Prix : Gratuit (inscription obligatoire)\n 	📝 Comment
  s'inscrire : Via le formulaire ci-dessous\, jusqu'au 20 mai à 23h30\n\n\
 n\n\n
ATTACH;FMTTYPE=image/jpeg:https://www.sbsr.be/wp-content/uploads/2026/04/s
 bsr-event-cover-event-parcs-LaHulpe-23mai-ValerieGrauwels.jpg
LOCATION:Bois des Dames de La Hulpe\, 29 avenue du Roi Baudoin\, La Hulpe\,
  1310\, Belgique
X-APPLE-STRUCTURED-LOCATION;VALUE=URI;X-ADDRESS=29 avenue du Roi Baudoin\, 
 La Hulpe\, 1310\, Belgique;X-APPLE-RADIUS=100;X-TITLE=Bois des Dames de La
  Hulpe:geo:0,0
END:VEVENT
BEGIN:VTIMEZONE
TZID:Europe/Brussels
X-LIC-LOCATION:Europe/Brussels
BEGIN:DAYLIGHT
DTSTART:20260329T030000
TZOFFSETFROM:+0100
TZOFFSETTO:+0200
TZNAME:CEST
END:DAYLIGHT
END:VTIMEZONE
END:VCALENDAR