BEGIN:VCALENDAR
VERSION:2.0
PRODID:-//wp-events-plugin.com//7.2.3.1//EN
TZID:Europe/Brussels
X-WR-TIMEZONE:Europe/Brussels
BEGIN:VEVENT
UID:35@sbsr.be
DTSTART;TZID=Europe/Brussels:20260705T091500
DTEND;TZID=Europe/Brussels:20260705T101500
DTSTAMP:20260216T151230Z
URL:https://www.sbsr.be/evenements/seance-de-sophrologie-online-ouverte-a-
 tous-juillet2026/
SUMMARY:Séance de sophrologie online [ouverte à tous]
DESCRIPTION:Séance de sophrologie\, en visioconférence\, ouverte à tous\
 nLa thématique sera communiquée ultérieurement.\n\n 	🗓️ Quand : Di
 manche 5 juillet 2026 à 09h15 précises jusqu'à 10h15\n 	📍 Où : En v
 isio\, le lien Zoom sera envoyé la veille de l’événement\n 	👥 Pour
  qui : Ouverte à tous\n 	💰 Prix : Gratuit mais uniquement sur inscript
 ion\n 	📝 Comment s'inscrire : Les réservations ne sont pas disponibles
  pour le moment.\n\n&nbsp\;\n\n\n\nLes réservations ne sont pas disponibl
 es pour le moment.
ATTACH;FMTTYPE=image/jpeg:https://www.sbsr.be/wp-content/uploads/2024/11/s
 bsr-assemblee-generale-2025.jpg
LOCATION:#
END:VEVENT
BEGIN:VTIMEZONE
TZID:Europe/Brussels
X-LIC-LOCATION:Europe/Brussels
BEGIN:DAYLIGHT
DTSTART:20260329T030000
TZOFFSETFROM:+0100
TZOFFSETTO:+0200
TZNAME:CEST
END:DAYLIGHT
END:VTIMEZONE
END:VCALENDAR